BEGIN:VCALENDAR
VERSION:2.0
PRODID:-//Forward Brunswick - ECPv6.15.20//NONSGML v1.0//EN
CALSCALE:GREGORIAN
METHOD:PUBLISH
X-WR-CALNAME:Forward Brunswick
X-ORIGINAL-URL:https://forwardbrunswick.org
X-WR-CALDESC:Events for Forward Brunswick
REFRESH-INTERVAL;VALUE=DURATION:PT1H
X-Robots-Tag:noindex
X-PUBLISHED-TTL:PT1H
BEGIN:VTIMEZONE
TZID:America/New_York
BEGIN:DAYLIGHT
TZOFFSETFROM:-0500
TZOFFSETTO:-0400
TZNAME:EDT
DTSTART:20250309T070000
END:DAYLIGHT
BEGIN:STANDARD
TZOFFSETFROM:-0400
TZOFFSETTO:-0500
TZNAME:EST
DTSTART:20251102T060000
END:STANDARD
BEGIN:DAYLIGHT
TZOFFSETFROM:-0500
TZOFFSETTO:-0400
TZNAME:EDT
DTSTART:20260308T070000
END:DAYLIGHT
BEGIN:STANDARD
TZOFFSETFROM:-0400
TZOFFSETTO:-0500
TZNAME:EST
DTSTART:20261101T060000
END:STANDARD
BEGIN:DAYLIGHT
TZOFFSETFROM:-0500
TZOFFSETTO:-0400
TZNAME:EDT
DTSTART:20270314T070000
END:DAYLIGHT
BEGIN:STANDARD
TZOFFSETFROM:-0400
TZOFFSETTO:-0500
TZNAME:EST
DTSTART:20271107T060000
END:STANDARD
END:VTIMEZONE
BEGIN:VEVENT
DTSTART;TZID=America/New_York:20260425T090000
DTEND;TZID=America/New_York:20260425T130000
DTSTAMP:20260423T165837
CREATED:20250324T010342Z
LAST-MODIFIED:20250324T011005Z
UID:5787-1777107600-1777122000@forwardbrunswick.org
SUMMARY:Forward Brunswick Farmers Market
DESCRIPTION:
URL:https://forwardbrunswick.org/event/forward-brunswick-farmers-market-11/2026-04-25/
LOCATION:mary ross waterfront park\, 10 F Street\, Brunswick\, GA\, 31520\, United States
ORGANIZER;CN="Forward Brunswick":MAILTO:info@forwardbrunswick.org
END:VEVENT
BEGIN:VEVENT
DTSTART;TZID=America/New_York:20260501T170000
DTEND;TZID=America/New_York:20260501T200000
DTSTAMP:20260423T165837
CREATED:20211109T001939Z
LAST-MODIFIED:20211109T001939Z
UID:5554-1777654800-1777665600@forwardbrunswick.org
SUMMARY:First Friday
DESCRIPTION:Stroll along Gloucester\, G\, Bay and Newcastle Street for First Friday. There is a farmer’s market in Queen Square\, live music in Jekyll Square\, local crafts in Machen Square along with shops staying open late for you to browse at your leisure while enjoying local eats and libations. \nSHOP\, DINE\, EXPLORE. HISTORIC DOWNTOWN BRUNSWICK!
URL:https://forwardbrunswick.org/event/first-friday/2026-05-01/
LOCATION:GA
END:VEVENT
BEGIN:VEVENT
DTSTART;TZID=America/New_York:20260506T180000
DTEND;TZID=America/New_York:20260506T200000
DTSTAMP:20260423T165837
CREATED:20211109T002332Z
LAST-MODIFIED:20211109T002332Z
UID:5552-1778090400-1778097600@forwardbrunswick.org
SUMMARY:City Commission Meeting
DESCRIPTION:View the city commission meeting agenda on the city’s website.  Commission meetings are open to the public.
URL:https://forwardbrunswick.org/event/city-commission-meeting-3/2026-05-06/
LOCATION:GA
END:VEVENT
BEGIN:VEVENT
DTSTART;TZID=America/New_York:20260509T090000
DTEND;TZID=America/New_York:20260509T130000
DTSTAMP:20260423T165837
CREATED:20250324T010153Z
LAST-MODIFIED:20250324T010153Z
UID:5766-1778317200-1778331600@forwardbrunswick.org
SUMMARY:Forward Brunswick Farmers Market
DESCRIPTION:
URL:https://forwardbrunswick.org/event/forward-brunswick-farmers-market-10/2026-05-09/
LOCATION:mary ross waterfront park\, 10 F Street\, Brunswick\, GA\, 31520\, United States
ORGANIZER;CN="Forward Brunswick":MAILTO:info@forwardbrunswick.org
END:VEVENT
BEGIN:VEVENT
DTSTART;TZID=America/New_York:20260523T090000
DTEND;TZID=America/New_York:20260523T130000
DTSTAMP:20260423T165837
CREATED:20250324T010342Z
LAST-MODIFIED:20250324T011005Z
UID:5788-1779526800-1779541200@forwardbrunswick.org
SUMMARY:Forward Brunswick Farmers Market
DESCRIPTION:
URL:https://forwardbrunswick.org/event/forward-brunswick-farmers-market-11/2026-05-23/
LOCATION:mary ross waterfront park\, 10 F Street\, Brunswick\, GA\, 31520\, United States
ORGANIZER;CN="Forward Brunswick":MAILTO:info@forwardbrunswick.org
END:VEVENT
BEGIN:VEVENT
DTSTART;TZID=America/New_York:20260603T180000
DTEND;TZID=America/New_York:20260603T200000
DTSTAMP:20260423T165837
CREATED:20211109T002332Z
LAST-MODIFIED:20211109T002332Z
UID:5607-1780509600-1780516800@forwardbrunswick.org
SUMMARY:City Commission Meeting
DESCRIPTION:View the city commission meeting agenda on the city’s website.  Commission meetings are open to the public.
URL:https://forwardbrunswick.org/event/city-commission-meeting-3/2026-06-03/
LOCATION:GA
END:VEVENT
BEGIN:VEVENT
DTSTART;TZID=America/New_York:20260605T170000
DTEND;TZID=America/New_York:20260605T200000
DTSTAMP:20260423T165837
CREATED:20211109T001939Z
LAST-MODIFIED:20211109T001939Z
UID:5588-1780678800-1780689600@forwardbrunswick.org
SUMMARY:First Friday
DESCRIPTION:Stroll along Gloucester\, G\, Bay and Newcastle Street for First Friday. There is a farmer’s market in Queen Square\, live music in Jekyll Square\, local crafts in Machen Square along with shops staying open late for you to browse at your leisure while enjoying local eats and libations. \nSHOP\, DINE\, EXPLORE. HISTORIC DOWNTOWN BRUNSWICK!
URL:https://forwardbrunswick.org/event/first-friday/2026-06-05/
LOCATION:GA
END:VEVENT
BEGIN:VEVENT
DTSTART;TZID=America/New_York:20260613T090000
DTEND;TZID=America/New_York:20260613T130000
DTSTAMP:20260423T165837
CREATED:20250324T010153Z
LAST-MODIFIED:20250324T010153Z
UID:5767-1781341200-1781355600@forwardbrunswick.org
SUMMARY:Forward Brunswick Farmers Market
DESCRIPTION:
URL:https://forwardbrunswick.org/event/forward-brunswick-farmers-market-10/2026-06-13/
LOCATION:mary ross waterfront park\, 10 F Street\, Brunswick\, GA\, 31520\, United States
ORGANIZER;CN="Forward Brunswick":MAILTO:info@forwardbrunswick.org
END:VEVENT
BEGIN:VEVENT
DTSTART;TZID=America/New_York:20260617T180000
DTEND;TZID=America/New_York:20260617T200000
DTSTAMP:20260423T165837
CREATED:20211109T002332Z
LAST-MODIFIED:20211109T002332Z
UID:5606-1781719200-1781726400@forwardbrunswick.org
SUMMARY:City Commission Meeting
DESCRIPTION:View the city commission meeting agenda on the city’s website.  Commission meetings are open to the public.
URL:https://forwardbrunswick.org/event/city-commission-meeting-3/2026-06-17/
LOCATION:GA
END:VEVENT
BEGIN:VEVENT
DTSTART;TZID=America/New_York:20260627T090000
DTEND;TZID=America/New_York:20260627T130000
DTSTAMP:20260423T165837
CREATED:20250324T010342Z
LAST-MODIFIED:20250324T011005Z
UID:5789-1782550800-1782565200@forwardbrunswick.org
SUMMARY:Forward Brunswick Farmers Market
DESCRIPTION:
URL:https://forwardbrunswick.org/event/forward-brunswick-farmers-market-11/2026-06-27/
LOCATION:mary ross waterfront park\, 10 F Street\, Brunswick\, GA\, 31520\, United States
ORGANIZER;CN="Forward Brunswick":MAILTO:info@forwardbrunswick.org
END:VEVENT
BEGIN:VEVENT
DTSTART;TZID=America/New_York:20260701T180000
DTEND;TZID=America/New_York:20260701T200000
DTSTAMP:20260423T165837
CREATED:20211109T002332Z
LAST-MODIFIED:20211109T002332Z
UID:5623-1782928800-1782936000@forwardbrunswick.org
SUMMARY:City Commission Meeting
DESCRIPTION:View the city commission meeting agenda on the city’s website.  Commission meetings are open to the public.
URL:https://forwardbrunswick.org/event/city-commission-meeting-3/2026-07-01/
LOCATION:GA
END:VEVENT
BEGIN:VEVENT
DTSTART;TZID=America/New_York:20260703T170000
DTEND;TZID=America/New_York:20260703T200000
DTSTAMP:20260423T165837
CREATED:20211109T001939Z
LAST-MODIFIED:20211109T001939Z
UID:5608-1783098000-1783108800@forwardbrunswick.org
SUMMARY:First Friday
DESCRIPTION:Stroll along Gloucester\, G\, Bay and Newcastle Street for First Friday. There is a farmer’s market in Queen Square\, live music in Jekyll Square\, local crafts in Machen Square along with shops staying open late for you to browse at your leisure while enjoying local eats and libations. \nSHOP\, DINE\, EXPLORE. HISTORIC DOWNTOWN BRUNSWICK!
URL:https://forwardbrunswick.org/event/first-friday/2026-07-03/
LOCATION:GA
END:VEVENT
BEGIN:VEVENT
DTSTART;TZID=America/New_York:20260711T090000
DTEND;TZID=America/New_York:20260711T130000
DTSTAMP:20260423T165837
CREATED:20250324T010153Z
LAST-MODIFIED:20250324T010153Z
UID:5768-1783760400-1783774800@forwardbrunswick.org
SUMMARY:Forward Brunswick Farmers Market
DESCRIPTION:
URL:https://forwardbrunswick.org/event/forward-brunswick-farmers-market-10/2026-07-11/
LOCATION:mary ross waterfront park\, 10 F Street\, Brunswick\, GA\, 31520\, United States
ORGANIZER;CN="Forward Brunswick":MAILTO:info@forwardbrunswick.org
END:VEVENT
BEGIN:VEVENT
DTSTART;TZID=America/New_York:20260715T180000
DTEND;TZID=America/New_York:20260715T200000
DTSTAMP:20260423T165837
CREATED:20211109T002332Z
LAST-MODIFIED:20211109T002332Z
UID:5622-1784138400-1784145600@forwardbrunswick.org
SUMMARY:City Commission Meeting
DESCRIPTION:View the city commission meeting agenda on the city’s website.  Commission meetings are open to the public.
URL:https://forwardbrunswick.org/event/city-commission-meeting-3/2026-07-15/
LOCATION:GA
END:VEVENT
BEGIN:VEVENT
DTSTART;TZID=America/New_York:20260725T090000
DTEND;TZID=America/New_York:20260725T130000
DTSTAMP:20260423T165837
CREATED:20250324T010342Z
LAST-MODIFIED:20250324T011005Z
UID:5790-1784970000-1784984400@forwardbrunswick.org
SUMMARY:Forward Brunswick Farmers Market
DESCRIPTION:
URL:https://forwardbrunswick.org/event/forward-brunswick-farmers-market-11/2026-07-25/
LOCATION:mary ross waterfront park\, 10 F Street\, Brunswick\, GA\, 31520\, United States
ORGANIZER;CN="Forward Brunswick":MAILTO:info@forwardbrunswick.org
END:VEVENT
BEGIN:VEVENT
DTSTART;TZID=America/New_York:20260805T180000
DTEND;TZID=America/New_York:20260805T200000
DTSTAMP:20260423T165837
CREATED:20211109T002332Z
LAST-MODIFIED:20211109T002332Z
UID:5633-1785952800-1785960000@forwardbrunswick.org
SUMMARY:City Commission Meeting
DESCRIPTION:View the city commission meeting agenda on the city’s website.  Commission meetings are open to the public.
URL:https://forwardbrunswick.org/event/city-commission-meeting-3/2026-08-05/
LOCATION:GA
END:VEVENT
BEGIN:VEVENT
DTSTART;TZID=America/New_York:20260807T170000
DTEND;TZID=America/New_York:20260807T200000
DTSTAMP:20260423T165837
CREATED:20211109T001939Z
LAST-MODIFIED:20211109T001939Z
UID:5631-1786122000-1786132800@forwardbrunswick.org
SUMMARY:First Friday
DESCRIPTION:Stroll along Gloucester\, G\, Bay and Newcastle Street for First Friday. There is a farmer’s market in Queen Square\, live music in Jekyll Square\, local crafts in Machen Square along with shops staying open late for you to browse at your leisure while enjoying local eats and libations. \nSHOP\, DINE\, EXPLORE. HISTORIC DOWNTOWN BRUNSWICK!
URL:https://forwardbrunswick.org/event/first-friday/2026-08-07/
LOCATION:GA
END:VEVENT
BEGIN:VEVENT
DTSTART;TZID=America/New_York:20260808T090000
DTEND;TZID=America/New_York:20260808T130000
DTSTAMP:20260423T165837
CREATED:20250324T010153Z
LAST-MODIFIED:20250324T010153Z
UID:5769-1786179600-1786194000@forwardbrunswick.org
SUMMARY:Forward Brunswick Farmers Market
DESCRIPTION:
URL:https://forwardbrunswick.org/event/forward-brunswick-farmers-market-10/2026-08-08/
LOCATION:mary ross waterfront park\, 10 F Street\, Brunswick\, GA\, 31520\, United States
ORGANIZER;CN="Forward Brunswick":MAILTO:info@forwardbrunswick.org
END:VEVENT
BEGIN:VEVENT
DTSTART;TZID=America/New_York:20260819T180000
DTEND;TZID=America/New_York:20260819T200000
DTSTAMP:20260423T165837
CREATED:20211109T002332Z
LAST-MODIFIED:20211109T002332Z
UID:5632-1787162400-1787169600@forwardbrunswick.org
SUMMARY:City Commission Meeting
DESCRIPTION:View the city commission meeting agenda on the city’s website.  Commission meetings are open to the public.
URL:https://forwardbrunswick.org/event/city-commission-meeting-3/2026-08-19/
LOCATION:GA
END:VEVENT
BEGIN:VEVENT
DTSTART;TZID=America/New_York:20260822T090000
DTEND;TZID=America/New_York:20260822T130000
DTSTAMP:20260423T165837
CREATED:20250324T010342Z
LAST-MODIFIED:20250324T011005Z
UID:5791-1787389200-1787403600@forwardbrunswick.org
SUMMARY:Forward Brunswick Farmers Market
DESCRIPTION:
URL:https://forwardbrunswick.org/event/forward-brunswick-farmers-market-11/2026-08-22/
LOCATION:mary ross waterfront park\, 10 F Street\, Brunswick\, GA\, 31520\, United States
ORGANIZER;CN="Forward Brunswick":MAILTO:info@forwardbrunswick.org
END:VEVENT
BEGIN:VEVENT
DTSTART;TZID=America/New_York:20260902T180000
DTEND;TZID=America/New_York:20260902T200000
DTSTAMP:20260423T165837
CREATED:20211109T002332Z
LAST-MODIFIED:20211109T002332Z
UID:5643-1788372000-1788379200@forwardbrunswick.org
SUMMARY:City Commission Meeting
DESCRIPTION:View the city commission meeting agenda on the city’s website.  Commission meetings are open to the public.
URL:https://forwardbrunswick.org/event/city-commission-meeting-3/2026-09-02/
LOCATION:GA
END:VEVENT
BEGIN:VEVENT
DTSTART;TZID=America/New_York:20260904T170000
DTEND;TZID=America/New_York:20260904T200000
DTSTAMP:20260423T165837
CREATED:20211109T001939Z
LAST-MODIFIED:20211109T001939Z
UID:5634-1788541200-1788552000@forwardbrunswick.org
SUMMARY:First Friday
DESCRIPTION:Stroll along Gloucester\, G\, Bay and Newcastle Street for First Friday. There is a farmer’s market in Queen Square\, live music in Jekyll Square\, local crafts in Machen Square along with shops staying open late for you to browse at your leisure while enjoying local eats and libations. \nSHOP\, DINE\, EXPLORE. HISTORIC DOWNTOWN BRUNSWICK!
URL:https://forwardbrunswick.org/event/first-friday/2026-09-04/
LOCATION:GA
END:VEVENT
BEGIN:VEVENT
DTSTART;TZID=America/New_York:20260912T090000
DTEND;TZID=America/New_York:20260912T130000
DTSTAMP:20260423T165837
CREATED:20250324T010153Z
LAST-MODIFIED:20250324T010153Z
UID:5770-1789203600-1789218000@forwardbrunswick.org
SUMMARY:Forward Brunswick Farmers Market
DESCRIPTION:
URL:https://forwardbrunswick.org/event/forward-brunswick-farmers-market-10/2026-09-12/
LOCATION:mary ross waterfront park\, 10 F Street\, Brunswick\, GA\, 31520\, United States
ORGANIZER;CN="Forward Brunswick":MAILTO:info@forwardbrunswick.org
END:VEVENT
BEGIN:VEVENT
DTSTART;TZID=America/New_York:20260916T180000
DTEND;TZID=America/New_York:20260916T200000
DTSTAMP:20260423T165837
CREATED:20211109T002332Z
LAST-MODIFIED:20211109T002332Z
UID:5642-1789581600-1789588800@forwardbrunswick.org
SUMMARY:City Commission Meeting
DESCRIPTION:View the city commission meeting agenda on the city’s website.  Commission meetings are open to the public.
URL:https://forwardbrunswick.org/event/city-commission-meeting-3/2026-09-16/
LOCATION:GA
END:VEVENT
BEGIN:VEVENT
DTSTART;TZID=America/New_York:20260926T090000
DTEND;TZID=America/New_York:20260926T130000
DTSTAMP:20260423T165837
CREATED:20250324T010342Z
LAST-MODIFIED:20250324T011005Z
UID:5792-1790413200-1790427600@forwardbrunswick.org
SUMMARY:Forward Brunswick Farmers Market
DESCRIPTION:
URL:https://forwardbrunswick.org/event/forward-brunswick-farmers-market-11/2026-09-26/
LOCATION:mary ross waterfront park\, 10 F Street\, Brunswick\, GA\, 31520\, United States
ORGANIZER;CN="Forward Brunswick":MAILTO:info@forwardbrunswick.org
END:VEVENT
BEGIN:VEVENT
DTSTART;TZID=America/New_York:20261002T170000
DTEND;TZID=America/New_York:20261002T200000
DTSTAMP:20260423T165837
CREATED:20211109T001939Z
LAST-MODIFIED:20211109T001939Z
UID:5644-1790960400-1790971200@forwardbrunswick.org
SUMMARY:First Friday
DESCRIPTION:Stroll along Gloucester\, G\, Bay and Newcastle Street for First Friday. There is a farmer’s market in Queen Square\, live music in Jekyll Square\, local crafts in Machen Square along with shops staying open late for you to browse at your leisure while enjoying local eats and libations. \nSHOP\, DINE\, EXPLORE. HISTORIC DOWNTOWN BRUNSWICK!
URL:https://forwardbrunswick.org/event/first-friday/2026-10-02/
LOCATION:GA
END:VEVENT
BEGIN:VEVENT
DTSTART;TZID=America/New_York:20261007T180000
DTEND;TZID=America/New_York:20261007T200000
DTSTAMP:20260423T165837
CREATED:20211109T002332Z
LAST-MODIFIED:20211109T002332Z
UID:5658-1791396000-1791403200@forwardbrunswick.org
SUMMARY:City Commission Meeting
DESCRIPTION:View the city commission meeting agenda on the city’s website.  Commission meetings are open to the public.
URL:https://forwardbrunswick.org/event/city-commission-meeting-3/2026-10-07/
LOCATION:GA
END:VEVENT
BEGIN:VEVENT
DTSTART;TZID=America/New_York:20261010T090000
DTEND;TZID=America/New_York:20261010T130000
DTSTAMP:20260423T165837
CREATED:20250324T010153Z
LAST-MODIFIED:20250324T010153Z
UID:5771-1791622800-1791637200@forwardbrunswick.org
SUMMARY:Forward Brunswick Farmers Market
DESCRIPTION:
URL:https://forwardbrunswick.org/event/forward-brunswick-farmers-market-10/2026-10-10/
LOCATION:mary ross waterfront park\, 10 F Street\, Brunswick\, GA\, 31520\, United States
ORGANIZER;CN="Forward Brunswick":MAILTO:info@forwardbrunswick.org
END:VEVENT
BEGIN:VEVENT
DTSTART;TZID=America/New_York:20261021T180000
DTEND;TZID=America/New_York:20261021T200000
DTSTAMP:20260423T165837
CREATED:20211109T002332Z
LAST-MODIFIED:20211109T002332Z
UID:5657-1792605600-1792612800@forwardbrunswick.org
SUMMARY:City Commission Meeting
DESCRIPTION:View the city commission meeting agenda on the city’s website.  Commission meetings are open to the public.
URL:https://forwardbrunswick.org/event/city-commission-meeting-3/2026-10-21/
LOCATION:GA
END:VEVENT
BEGIN:VEVENT
DTSTART;TZID=America/New_York:20261024T090000
DTEND;TZID=America/New_York:20261024T130000
DTSTAMP:20260423T165837
CREATED:20250324T010342Z
LAST-MODIFIED:20250324T011005Z
UID:5793-1792832400-1792846800@forwardbrunswick.org
SUMMARY:Forward Brunswick Farmers Market
DESCRIPTION:
URL:https://forwardbrunswick.org/event/forward-brunswick-farmers-market-11/2026-10-24/
LOCATION:mary ross waterfront park\, 10 F Street\, Brunswick\, GA\, 31520\, United States
ORGANIZER;CN="Forward Brunswick":MAILTO:info@forwardbrunswick.org
END:VEVENT
END:VCALENDAR