BEGIN:VCALENDAR
VERSION:2.0
PRODID:-//Forward Brunswick - ECPv6.15.20//NONSGML v1.0//EN
CALSCALE:GREGORIAN
METHOD:PUBLISH
X-ORIGINAL-URL:https://forwardbrunswick.org
X-WR-CALDESC:Events for Forward Brunswick
REFRESH-INTERVAL;VALUE=DURATION:PT1H
X-Robots-Tag:noindex
X-PUBLISHED-TTL:PT1H
BEGIN:VTIMEZONE
TZID:America/New_York
BEGIN:DAYLIGHT
TZOFFSETFROM:-0500
TZOFFSETTO:-0400
TZNAME:EDT
DTSTART:20210314T070000
END:DAYLIGHT
BEGIN:STANDARD
TZOFFSETFROM:-0400
TZOFFSETTO:-0500
TZNAME:EST
DTSTART:20211107T060000
END:STANDARD
BEGIN:DAYLIGHT
TZOFFSETFROM:-0500
TZOFFSETTO:-0400
TZNAME:EDT
DTSTART:20220313T070000
END:DAYLIGHT
BEGIN:STANDARD
TZOFFSETFROM:-0400
TZOFFSETTO:-0500
TZNAME:EST
DTSTART:20221106T060000
END:STANDARD
BEGIN:DAYLIGHT
TZOFFSETFROM:-0500
TZOFFSETTO:-0400
TZNAME:EDT
DTSTART:20230312T070000
END:DAYLIGHT
BEGIN:STANDARD
TZOFFSETFROM:-0400
TZOFFSETTO:-0500
TZNAME:EST
DTSTART:20231105T060000
END:STANDARD
END:VTIMEZONE
BEGIN:VEVENT
DTSTART;TZID=America/New_York:20220324T173000
DTEND;TZID=America/New_York:20220324T200000
DTSTAMP:20260422T061814
CREATED:20220322T164421Z
LAST-MODIFIED:20220322T164421Z
UID:3734-1648143000-1648152000@forwardbrunswick.org
SUMMARY:Coastal Outreach Soccer - Futsal Court Grand Opening
DESCRIPTION:Community celebration!  Ribbon cutting and grand opening.
URL:https://forwardbrunswick.org/event/coastal-outreach-soccer-futsal-court-grand-opening/
LOCATION:Perry Park\, 1995 I Street\, Brunswick\, GA\, 31520
END:VEVENT
END:VCALENDAR